BEGIN:VCALENDAR
VERSION:2.0
PRODID:-//Rhopen - ECPv6.0.9//NONSGML v1.0//EN
CALSCALE:GREGORIAN
METHOD:PUBLISH
X-WR-CALNAME:Rhopen
X-ORIGINAL-URL:https://rhopen-training.info/fr/
X-WR-CALDESC:évènements pour Rhopen
REFRESH-INTERVAL;VALUE=DURATION:PT1H
X-Robots-Tag:noindex
X-PUBLISHED-TTL:PT1H
BEGIN:VTIMEZONE
TZID:UTC
BEGIN:STANDARD
TZOFFSETFROM:+0000
TZOFFSETTO:+0000
TZNAME:UTC
DTSTART:20200101T000000
END:STANDARD
END:VTIMEZONE
BEGIN:VEVENT
DTSTART;VALUE=DATE:20200116
DTEND;VALUE=DATE:20200417
DTSTAMP:20260423T085056
CREATED:20200106T152058Z
LAST-MODIFIED:20200106T152058Z
UID:4006-1579132800-1587081599@rhopen-training.info
SUMMARY:Formation CCNP Cybersecurité
DESCRIPTION:Session classe de Janvier 2020
URL:https://rhopen-training.info/fr/event/formation-ccnp-cybersecurite/
END:VEVENT
END:VCALENDAR